Workbook

Sheet base
B2: گروهبان3 | C2: گروهبان2 | D2: ستوان3 | E2: ستوان2
A3: ضریب حقوقی درجه | B3: 0.65 | C3: 0.67 | D3: 0.76 | E3: 0.79
A4: حقوق پایه | B4: 57257200 | C4: 59018960 | D4: 66946880 | E4: 69589520
A5: حقوق پایه متاهل | B5: 79279200 | C5: 79279200 | D5: 79279200 | E5: 79279200
A6: حق همسر | B6: =IF(calc!G9=0,B25,IF(calc!G9=calc!A19,B26,IF(calc!G9=calc!A20,B25,IF(calc!G9=calc!A21,B25,IF(calc!G9=calc!A22,B26,0))))) -> 21006875 | C6: =$B$6 -> 21006875 | D6: =$B$6 -> 21006875 | E6: =$B$6 -> 21006875
A7: حق فرزند | B7: =IF(calc!G9=0,"0",IF(calc!G9=calc!A19,(C25*2+(C26*(calc!G9-2))),IF(calc!G9=calc!A20,(C25*calc!G9),IF(calc!G9=calc!A21,(C25*calc!G9),IF(calc!G9=calc!A22,(C26*(calc!G9-2)+(base!C25*2)),0))))) -> 0 | C7: =$B$7 -> 0 | D7: =$B$7 -> 0 | E7: =$B$7 -> 0
A9: عمر و حوادث | B9: =C9+D9 -> 1770568.8 | C9: =calc!L11 -> 590189.6 | D9: =calc!M11 -> 1180379.2 | E9: =$B$9 -> 1770568.8
A10: مکمل | B10: 2071000 | C10: 667000 | D10: 1404000
A11: پایه خدمات درمانی | B11: 1615000 | C11: 1292000 | D11: 323000
A12: خوراک | B12: 25920000
A13: پوشاک | B13: 14487000
A16: خوراک ماهانه | B16: 18000000
A17: پوشاک سالانه | B17: 12072000
A18: حداقل حقوق کارکنان نیروهای مسلح | B18: 79270800 | C18: همسر | D18: فرزند | E18: ضریب هدیه ازدواج
A19: ضریب ریالی حقوق | B19: 4024 | C19: =IF(calc!G9=0,D25,IF(calc!G9=calc!A19,D26,IF(calc!G9=calc!A20,D25,IF(calc!G9=calc!A21,D25,IF(calc!G9=calc!A22,D26,0))))) -> 3625 | D19: =IF(calc!G9=0,"0",IF(calc!G9=calc!A19,((E26*(calc!G9-2))+E25*2),IF(calc!G9=calc!A20,(E25*calc!G9),IF(calc!G9=calc!A21,(E25*calc!G9),IF(calc!G9=calc!A22,((E26*(calc!G9-2))+E25*2),0))))) -> 0 | E19: 0
D21: =E19*B19/2 -> 0
A25: خیر | B25: 21006875 | C25: 17193765 | D25: 3625 | E25: 2967
A26: بله | B26: 21006875 | C26: 17193765 | D26: 3625 | E26: 2967
I28: 22101393
B30: 21600000
B31: 25920000
B32: =B31-B30 -> 4320000
B33: =B32/30 -> 144000
B34: =B33*22 -> 3168000

Sheet calc
D1: 1- انتخاب وضعیت های سرباز | J1: 2- فیش حقوقی | P1: 3- اطلاعات قرارداد
B2: درجه | C2: =IF(G7=A13,2,IF(G7=A11,0,1)) -> 0
B3: تاهل | C3: =IF(G8=A15,0,1) -> 0 | L3: سهم سرباز | M3: سهم شرکت | N3: جمع | P3: موضوع | Q3: مبلغ
B4: فرزند | C4: =G9 -> 0 | E4: درجه (مدرک) و وضعیت تاهل و فرزند خود را در باکس های زیر مشخص کنید. | J4: دریافتی ها | K4: حقوق پایه | L4: =OFFSET(base!C4,C3,C2) -> 59018960 | M4: 0 | N4: 0 | P4: کل قرارداد | Q4: =SUM(Q5:Q7) -> 5.6737908e+08
K5: حق همسر | L5: =IF(C7=1,0,base!B6) -> 0 | M5: 0 | N5: 0 | P5: دوره آموزشی | Q5: 245200000
K6: حق اولاد | L6: =base!B7 -> 0 | M6: 0 | N6: 0
B7: تعداد خانواده | C7: =C3+C4+1 -> 1 | E7: درجه - مدرک | G7: گروهبان دوم - لیسانس | K7: کمک هزینه خوراک | L7: =IF(G10=base!A25,base!B12,0) -> 25920000 | M7: 0 | N7: 0 | P7: بیمه نیروهای مسلح | Q7: =24*N13 -> 3.2217908e+08
E8: وضعیت تاهل | G8: مجرد | K8: کمک هزینه پوشاک | L8: =base!B13/12 -> 1207250 | M8: 0 | N8: 0
B9: - | E9: تعداد فرزندان متولد شده | G9: 0 | J9: کسورات | K9: بیمه درمان | L9: =base!C11*C7 -> 1292000 | M9: =base!D11*C7 -> 323000 | N9: =L9+M9 -> 1615000 | P9: چک1 (به تاریخ یک ماه قبل از اعزام) | Q9: =SUM(Q5:Q6) -> 245200000
B10: قبل از سال 1401 | E10: دریافت وعده غذایی | G10: خیر | K10: بیمه مکمل | L10: =base!C10*C7 -> 667000 | M10: =base!D10*C7 -> 1404000 | N10: =L10+M10 -> 2071000 | P10: چک2 (به تاریخ2 ماه بعد از اعزام) | Q10: =S10 -> 392200000 | S10: =CEILING(T10, 100000) -> 392200000 | T10: =Q7+70000000 -> 3.9217908e+08
A11: گروهبان دوم - لیسانس | B11: سال 1401 | K11: بیمه حوادث 1و2 | L11: =0.01*L4 -> 590189.6 | M11: =0.02*L4 -> 1180379.2 | N11: =SUM(L11:M11) -> 1770568.8
A12: ستوان سوم - فوق لیسانس | C12: =IF(#REF!=B11,2,1) -> #REF! | E12: تاریخ بروز رسانی فایل اکسل حقوق و دستمزد کارکنان وظیفه مامور در شرکتهای دانش بنیان 1404/09/17 | K12: بیمه بازنشستگی | L12: 0 | M12: =0.135*L4 -> 7967559.6 | N12: =SUM(L12:M12) -> 7967559.6 | P12: * برای تنظیم قرارداد، از بخش «1- انتخاب وضعیت های سرباز» برای لیسانس درجه را گروهبان 2 ، فوق لیسانس ستوان 3 و دکتری ستوان 2 انتخاب کنید. * سایر موارد شامل تاهل و فرزند، مطابق شناسنامه سرباز انتخاب شود. * مبلغ چک دوم،شامل مجموع بیمه نیروهای مسلح و مبلغ 7میلیون تومان پیش پرداخت افزایش بیمه در سال های بعد می باشد. *در صورت دریافت وعده غذایی در شرکت هزینه خوراک به مامور وظیفه تعلق نمی گیرد.
A13: ستوان دوم - دکتری | K13: جمع کسورات | L13: =SUM(L9:L12) -> 2549189.6 | M13: =SUM(M9:M12) -> 10874939 | N13: =SUM(N9:N12) -> 13424128
K14: خالص حقوق | L14: =SUM(L4:L8)-SUM(L12:L13) -> 83597020
A15: مجرد
A16: متاهل | J16: تاریخ اجرای این دستورالعمل از ابتدای 1404/01/01 لازم الاجرا می باشد.
E17: "هزینه خوراک و پوشاک پس از ابلاغ ستاد کل نیروهای مسلح در فایل حقوق اعمال خواهد شد. هزینه مربوط به بیمه پس از ابلاغ سازمان تامین اجتماعی نیروهای مسلح در فایل حقوق اعمال خواهد شد. هزینه دوره آموزش در سال ۱۴۰۴ پس از ابلاغ ستاد کل نیروهای مسلح اطلاع رسانی خواهد شد."
A18: 0
A19: 3
A20: 1 | D20: ابلاغیه رسمی معاونت علمی و فناوری به شرکت های بکارگیرنده ماموران وظیفه امریه در شرکتهای دانش بنیان به منظور اصلاح تعرفه حقوق و دستمزد این کارکنان
A21: 2
A22: 4
